BEGIN:VCALENDAR
VERSION:2.0
PRODID:-//wp-events-plugin.com//7.2.3.1//EN
BEGIN:VEVENT
UID:13@uclaw.com
DTSTART:20231201T180000Z
DTEND:20231201T220000Z
DTSTAMP:20231127T183924Z
URL:https://uclaw.com/events/121st-annual-installation-of-the-2024-officer
 s-trustees/
SUMMARY:121st Annual Installation of the 2024 Officers & Trustees
DESCRIPTION:The Officers &amp\; Trustees of The Union County Bar
 Association request the pleasure of your company for an evening of
 celebration\nSCOTT M. SININS\nPRESIDENT\n\nCocktail Reception\, Dinner
 &amp\; Dancing\nCost: $150 per person\n\nTo view flyer\, click here.
LOCATION:Brooklake Country Club\, 139 Brooklake Road\, Florham Park\, New
 Jersey\, United States
X-APPLE-STRUCTURED-LOCATION;VALUE=URI;X-ADDRESS=139 Brooklake Road\,
 Florham Park\, New Jersey\, United
 States;X-APPLE-RADIUS=100;X-TITLE=Brooklake Country Club:geo:0,0
END:VEVENT
END:VCALENDAR