BEGIN:VCALENDAR
VERSION:2.0
PRODID:-//wp-events-plugin.com//7.2.3.1//EN
BEGIN:VEVENT
UID:47@uclaw.com
DTSTART:20241122T180000Z
DTEND:20241122T220000Z
DTSTAMP:20240930T175015Z
URL:https://uclaw.com/events/the-union-county-bar-association-event/
SUMMARY:The Union County Bar Association Event
DESCRIPTION:The Officers &amp\; Trustees of The Union County Bar
 Association request the pleasure of your company for an evening of
 celebration.\nAt the 122nd Annual Installation of the\n2024 Officers &amp\;
 Trustees\nKIMBERLY A. RENNIE\nPRESIDENT\n2024 Installation Dinner.pdf
END:VEVENT
END:VCALENDAR