BEGIN:VCALENDAR
VERSION:2.0
PRODID:-//wp-events-plugin.com//7.2.3.1//EN
BEGIN:VEVENT
UID:58@uclaw.com
DTSTART:20250604T163000Z
DTEND:20250604T193000Z
DTSTAMP:20250122T173227Z
URL:https://uclaw.com/events/ucba-spring-awards-and-conti-scholarship-dinn
 er/
SUMMARY:UCBA SPRING AWARDS AND CONTI SCHOLARSHIP DINNER
DESCRIPTION:WEDNESDAY\, JUNE 4TH: UCBA SPRING AWARDS AND CONTI SCHOLARSHIP
 DINNER\nGALLOPING HILL GOLF COURSE\, 3 GOLF DRIVE\,\nKENILWORTH\n\nSEMINAR:
 4:30PM DINNER: 6:00PM CEREMONY: 7:00PM
END:VEVENT
END:VCALENDAR