BEGIN:VCALENDAR
VERSION:2.0
PRODID:-//wp-events-plugin.com//7.2.3.1//EN
BEGIN:VEVENT
UID:99@uclaw.com
DTSTART:20260409T163000Z
DTEND:20260409T193000Z
DTSTAMP:20260324T203908Z
URL:https://uclaw.com/events/yld-happy-hour-masters-watch-party/
SUMMARY:YLD HAPPY HOUR & MASTERS WATCH PARTY
DESCRIPTION:Come meet your colleagues and watch the Masters!\nA three hour
 open bar and food will be provided.\n\nJaverbaum Wurgaft Lounge\n505 Morris
 Avenue\, 2nd Floor\nSpringfield\, New Jersey\n\n2026 April YLD Happy Hour
 &amp\; Masters Watch Party Event (1).pdf
END:VEVENT
END:VCALENDAR